Package: sesame Version: 1.22.2 Command: /Library/Frameworks/R.framework/Resources/bin/R CMD check --install=check:sesame.install-out.txt --library=/Library/Frameworks/R.framework/Resources/library --no-vignettes --timings sesame_1.22.2.tar.gz StartedAt: 2024-10-08 11:16:26 -0400 (Tue, 08 Oct 2024) EndedAt: 2024-10-08 11:39:06 -0400 (Tue, 08 Oct 2024) EllapsedTime: 1360.0 seconds RetCode: 0 Status: OK CheckDir: sesame.Rcheck Warnings: 0