Package: sesame Version: 1.22.2 Command: /Library/Frameworks/R.framework/Resources/bin/R CMD build --keep-empty-dirs --no-resave-data sesame StartedAt: 2024-10-17 09:13:07 -0400 (Thu, 17 Oct 2024) EndedAt: 2024-10-17 09:18:47 -0400 (Thu, 17 Oct 2024) EllapsedTime: 339.4 seconds RetCode: 1 Status: ERROR PackageFile: None PackageFileSize: NA