Package: sesame Version: 1.22.2 Command: rm -rf sesame.buildbin-libdir && mkdir sesame.buildbin-libdir && /Users/biocbuild/BBS/utils/build-universal.sh sesame_1.22.2.tar.gz /Library/Frameworks/R.framework/Resources/bin/R sesame.buildbin-libdir StartedAt: 2024-10-08 19:40:46 -0400 (Tue, 08 Oct 2024) EndedAt: 2024-10-08 19:41:43 -0400 (Tue, 08 Oct 2024) EllapsedTime: 57.8 seconds RetCode: 0 Status: OK PackageFile: sesame_1.22.2.tgz PackageFileSize: 19.58 MiB