Package: seqsetvis Version: 1.24.0 Command: /Library/Frameworks/R.framework/Resources/bin/R CMD INSTALL seqsetvis StartedAt: 2024-10-16 15:46:51 -0400 (Wed, 16 Oct 2024) EndedAt: 2024-10-16 15:48:16 -0400 (Wed, 16 Oct 2024) EllapsedTime: 85.8 seconds RetCode: 0 Status: OK