Package: seqsetvis Version: 1.24.0 Command: /Library/Frameworks/R.framework/Resources/bin/R CMD build --keep-empty-dirs --no-resave-data seqsetvis StartedAt: 2024-10-17 09:11:00 -0400 (Thu, 17 Oct 2024) EndedAt: 2024-10-17 09:12:52 -0400 (Thu, 17 Oct 2024) EllapsedTime: 111.6 seconds RetCode: 0 Status: OK PackageFile: seqsetvis_1.24.0.tar.gz PackageFileSize: 3.457 MiB