Package: seqsetvis Version: 1.24.0 Maintainer: Joseph R Boyd MaintainerEmail: jrboyd at uvm.edu git_url: https://git.bioconductor.org/packages/seqsetvis git_branch: RELEASE_3_19 git_last_commit: 0997459 git_last_commit_date: 2024-10-15 11:17:32 -0400 (Tue, 15 Oct 2024)