Package: seqcombo Version: 1.26.0 Command: /Library/Frameworks/R.framework/Resources/bin/R CMD build --keep-empty-dirs --no-resave-data seqcombo StartedAt: 2024-10-16 23:15:07 -0400 (Wed, 16 Oct 2024) EndedAt: 2024-10-16 23:15:48 -0400 (Wed, 16 Oct 2024) EllapsedTime: 41.1 seconds RetCode: 0 Status: OK PackageFile: seqcombo_1.26.0.tar.gz PackageFileSize: 1.188 MiB