Package: seqcombo Version: 1.26.0 Command: rm -rf seqcombo.buildbin-libdir && mkdir seqcombo.buildbin-libdir && /Users/biocbuild/BBS/utils/build-universal.sh seqcombo_1.26.0.tar.gz /Library/Frameworks/R.framework/Resources/bin/R seqcombo.buildbin-libdir StartedAt: 2024-10-17 17:10:50 -0400 (Thu, 17 Oct 2024) EndedAt: 2024-10-17 17:11:03 -0400 (Thu, 17 Oct 2024) EllapsedTime: 12.7 seconds RetCode: 0 Status: OK PackageFile: seqcombo_1.26.0.tgz PackageFileSize: 870.2 KiB