Package: seqcombo Version: 1.26.0 Command: /Library/Frameworks/R.framework/Resources/bin/R CMD check --install=check:seqcombo.install-out.txt --library=/Library/Frameworks/R.framework/Resources/library --no-vignettes --timings seqcombo_1.26.0.tar.gz StartedAt: 2024-06-11 05:20:36 -0400 (Tue, 11 Jun 2024) EndedAt: 2024-06-11 05:21:47 -0400 (Tue, 11 Jun 2024) EllapsedTime: 70.8 seconds RetCode: 0 Status: OK CheckDir: seqcombo.Rcheck Warnings: 0