Package: seqcombo Version: 1.26.0 Command: rm -rf seqcombo.buildbin-libdir && mkdir seqcombo.buildbin-libdir && /Users/biocbuild/BBS/utils/build-universal.sh seqcombo_1.26.0.tar.gz /Library/Frameworks/R.framework/Resources/bin/R seqcombo.buildbin-libdir StartedAt: 2024-10-15 20:16:39 -0400 (Tue, 15 Oct 2024) EndedAt: 2024-10-15 20:16:47 -0400 (Tue, 15 Oct 2024) EllapsedTime: 8.1 seconds RetCode: 0 Status: OK PackageFile: seqcombo_1.26.0.tgz PackageFileSize: 870.3 KiB