Package: seqTools Version: 1.38.0 Command: rm -rf seqTools.buildbin-libdir && mkdir seqTools.buildbin-libdir && /Users/biocbuild/BBS/utils/build-universal.sh seqTools_1.38.0.tar.gz /Library/Frameworks/R.framework/Resources/bin/R seqTools.buildbin-libdir StartedAt: 2024-10-15 20:17:12 -0400 (Tue, 15 Oct 2024) EndedAt: 2024-10-15 20:17:24 -0400 (Tue, 15 Oct 2024) EllapsedTime: 11.2 seconds RetCode: 0 Status: OK PackageFile: seqTools_1.38.0.tgz PackageFileSize: 816.1 KiB