Package: seqPattern Version: 1.36.0 Command: /Library/Frameworks/R.framework/Resources/bin/R CMD build --keep-empty-dirs --no-resave-data seqPattern StartedAt: 2024-10-16 23:15:48 -0400 (Wed, 16 Oct 2024) EndedAt: 2024-10-16 23:17:37 -0400 (Wed, 16 Oct 2024) EllapsedTime: 109.0 seconds RetCode: 0 Status: OK PackageFile: seqPattern_1.36.0.tar.gz PackageFileSize: 5.368 MiB