Package: seqPattern Version: 1.36.0 Command: /Library/Frameworks/R.framework/Resources/bin/R CMD build --keep-empty-dirs --no-resave-data seqPattern StartedAt: 2024-10-17 09:10:11 -0400 (Thu, 17 Oct 2024) EndedAt: 2024-10-17 09:11:19 -0400 (Thu, 17 Oct 2024) EllapsedTime: 68.0 seconds RetCode: 0 Status: OK PackageFile: seqPattern_1.36.0.tar.gz PackageFileSize: 5.368 MiB