Package: seqCAT Version: 1.26.0 Command: rm -rf seqCAT.buildbin-libdir && mkdir seqCAT.buildbin-libdir && E:\biocbuild\bbs-3.19-bioc\R\bin\R.exe CMD INSTALL --build --library=seqCAT.buildbin-libdir seqCAT_1.26.0.tar.gz StartedAt: 2024-10-17 08:37:24 -0400 (Thu, 17 Oct 2024) EndedAt: 2024-10-17 08:38:17 -0400 (Thu, 17 Oct 2024) EllapsedTime: 53.2 seconds RetCode: 0 Status: OK PackageFile: seqCAT_1.26.0.zip PackageFileSize: 1.876 MiB