Package: seqCAT Version: 1.26.0 Command: /home/biocbuild/bbs-3.19-bioc/R/bin/R CMD INSTALL seqCAT StartedAt: 2024-10-16 16:40:46 -0400 (Wed, 16 Oct 2024) EndedAt: 2024-10-16 16:41:22 -0400 (Wed, 16 Oct 2024) EllapsedTime: 36.5 seconds RetCode: 0 Status: OK