Package: seqCAT Version: 1.26.0 Command: rm -rf seqCAT.buildbin-libdir && mkdir seqCAT.buildbin-libdir && /Users/biocbuild/BBS/utils/build-universal.sh seqCAT_1.26.0.tar.gz /Library/Frameworks/R.framework/Resources/bin/R seqCAT.buildbin-libdir StartedAt: 2024-10-17 17:10:48 -0400 (Thu, 17 Oct 2024) EndedAt: 2024-10-17 17:12:17 -0400 (Thu, 17 Oct 2024) EllapsedTime: 89.1 seconds RetCode: 0 Status: OK PackageFile: seqCAT_1.26.0.tgz PackageFileSize: 1.959 MiB