Package: seqArchRplus Version: 1.4.0 Command: chmod a+r seqArchRplus -R && E:\biocbuild\bbs-3.19-bioc\R\bin\R.exe CMD build --keep-empty-dirs --no-resave-data seqArchRplus StartedAt: 2024-10-16 21:54:05 -0400 (Wed, 16 Oct 2024) EndedAt: 2024-10-16 21:57:56 -0400 (Wed, 16 Oct 2024) EllapsedTime: 231.2 seconds RetCode: 0 Status: OK PackageFile: seqArchRplus_1.4.0.tar.gz PackageFileSize: 1.761 MiB