Package: seqArchRplus Version: 1.4.0 Command: rm -rf seqArchRplus.buildbin-libdir && mkdir seqArchRplus.buildbin-libdir && E:\biocbuild\bbs-3.19-bioc\R\bin\R.exe CMD INSTALL --build --library=seqArchRplus.buildbin-libdir seqArchRplus_1.4.0.tar.gz StartedAt: 2024-10-17 08:37:17 -0400 (Thu, 17 Oct 2024) EndedAt: 2024-10-17 08:38:05 -0400 (Thu, 17 Oct 2024) EllapsedTime: 48.3 seconds RetCode: 0 Status: OK PackageFile: seqArchRplus_1.4.0.zip PackageFileSize: 1.866 MiB