Package: seqArchRplus Version: 1.4.0 Command: /home/biocbuild/bbs-3.19-bioc/R/bin/R CMD check --install=check:seqArchRplus.install-out.txt --library=/home/biocbuild/bbs-3.19-bioc/R/site-library --timings seqArchRplus_1.4.0.tar.gz StartedAt: 2024-10-17 05:03:11 -0400 (Thu, 17 Oct 2024) EndedAt: 2024-10-17 05:10:24 -0400 (Thu, 17 Oct 2024) EllapsedTime: 432.1 seconds RetCode: 0 Status: OK CheckDir: seqArchRplus.Rcheck Warnings: 0