Package: seqArchRplus Version: 1.4.0 Command: /Library/Frameworks/R.framework/Resources/bin/R CMD build --keep-empty-dirs --no-resave-data seqArchRplus StartedAt: 2024-10-16 23:14:45 -0400 (Wed, 16 Oct 2024) EndedAt: 2024-10-16 23:22:38 -0400 (Wed, 16 Oct 2024) EllapsedTime: 473.5 seconds RetCode: 0 Status: OK PackageFile: seqArchRplus_1.4.0.tar.gz PackageFileSize: 3.691 MiB