Package: seqArchRplus Version: 1.4.0 Command: /Library/Frameworks/R.framework/Resources/bin/R CMD INSTALL seqArchRplus StartedAt: 2024-10-16 18:55:15 -0400 (Wed, 16 Oct 2024) EndedAt: 2024-10-16 18:55:43 -0400 (Wed, 16 Oct 2024) EllapsedTime: 28.0 seconds RetCode: 0 Status: OK