Package: seqArchRplus Version: 1.4.0 Command: /Library/Frameworks/R.framework/Resources/bin/R CMD check --install=check:seqArchRplus.install-out.txt --library=/Library/Frameworks/R.framework/Resources/library --no-vignettes --timings seqArchRplus_1.4.0.tar.gz StartedAt: 2024-10-18 12:02:07 -0400 (Fri, 18 Oct 2024) EndedAt: 2024-10-18 12:09:08 -0400 (Fri, 18 Oct 2024) EllapsedTime: 421.2 seconds RetCode: 0 Status: OK CheckDir: seqArchRplus.Rcheck Warnings: 0