Package: seqArchRplus Version: 1.4.0 Command: rm -rf seqArchRplus.buildbin-libdir && mkdir seqArchRplus.buildbin-libdir && /Users/biocbuild/BBS/utils/build-universal.sh seqArchRplus_1.4.0.tar.gz /Library/Frameworks/R.framework/Resources/bin/R seqArchRplus.buildbin-libdir StartedAt: 2024-10-15 20:16:24 -0400 (Tue, 15 Oct 2024) EndedAt: 2024-10-15 20:17:00 -0400 (Tue, 15 Oct 2024) EllapsedTime: 35.9 seconds RetCode: 0 Status: OK PackageFile: seqArchRplus_1.4.0.tgz PackageFileSize: 3.793 MiB