Package: seqArchR Version: 1.8.0 Command: E:\biocbuild\bbs-3.19-bioc\R\bin\R.exe CMD check --no-multiarch --install=check:seqArchR.install-out.txt --library=E:\biocbuild\bbs-3.19-bioc\R\library --no-vignettes --timings seqArchR_1.8.0.tar.gz StartedAt: 2024-10-17 05:40:35 -0400 (Thu, 17 Oct 2024) EndedAt: 2024-10-17 05:46:03 -0400 (Thu, 17 Oct 2024) EllapsedTime: 327.9 seconds RetCode: 0 Status: OK CheckDir: seqArchR.Rcheck Warnings: 0