Package: seq2pathway Version: 1.36.0 Command: E:\biocbuild\bbs-3.19-bioc\R\bin\R.exe CMD INSTALL seq2pathway StartedAt: 2024-10-16 16:55:51 -0400 (Wed, 16 Oct 2024) EndedAt: 2024-10-16 16:56:27 -0400 (Wed, 16 Oct 2024) EllapsedTime: 36.4 seconds RetCode: 0 Status: OK