Package: seq2pathway Version: 1.36.0 Command: F:\biocbuild\bbs-3.19-bioc\R\bin\R.exe CMD INSTALL seq2pathway StartedAt: 2024-06-26 16:29:08 -0400 (Wed, 26 Jun 2024) EndedAt: 2024-06-26 16:29:42 -0400 (Wed, 26 Jun 2024) EllapsedTime: 34.7 seconds RetCode: 0 Status: OK