Package: seq2pathway Version: 1.36.0 Command: chmod a+r seq2pathway -R && F:\biocbuild\bbs-3.19-bioc\R\bin\R.exe CMD build --keep-empty-dirs --no-resave-data seq2pathway StartedAt: 2024-06-26 21:52:56 -0400 (Wed, 26 Jun 2024) EndedAt: 2024-06-26 21:55:44 -0400 (Wed, 26 Jun 2024) EllapsedTime: 167.9 seconds RetCode: 0 Status: OK PackageFile: seq2pathway_1.36.0.tar.gz PackageFileSize: 1.419 MiB