Package: seq2pathway Version: 1.36.0 Command: /home/biocbuild/bbs-3.19-bioc/R/bin/R CMD INSTALL seq2pathway StartedAt: 2024-10-16 16:28:05 -0400 (Wed, 16 Oct 2024) EndedAt: 2024-10-16 16:28:27 -0400 (Wed, 16 Oct 2024) EllapsedTime: 21.6 seconds RetCode: 0 Status: OK