Package: seq2pathway Version: 1.36.0 Command: /home/biocbuild/R/R-beta-2024-04-15_r86425/bin/R CMD build --keep-empty-dirs --no-resave-data seq2pathway StartedAt: 2024-05-09 03:33:00 -0000 (Thu, 09 May 2024) EndedAt: 2024-05-09 03:34:23 -0000 (Thu, 09 May 2024) EllapsedTime: 83.1 seconds RetCode: 0 Status: OK PackageFile: seq2pathway_1.36.0.tar.gz PackageFileSize: 1.409 MiB