Package: seq2pathway Version: 1.36.0 Command: rm -rf seq2pathway.buildbin-libdir && mkdir seq2pathway.buildbin-libdir && /Users/biocbuild/BBS/utils/build-universal.sh seq2pathway_1.36.0.tar.gz /Library/Frameworks/R.framework/Resources/bin/R seq2pathway.buildbin-libdir StartedAt: 2024-06-11 13:12:42 -0400 (Tue, 11 Jun 2024) EndedAt: 2024-06-11 13:13:29 -0400 (Tue, 11 Jun 2024) EllapsedTime: 47.1 seconds RetCode: 0 Status: OK PackageFile: seq2pathway_1.36.0.tgz PackageFileSize: 935.6 KiB