Package: seq2pathway Version: 1.36.0 Command: /Library/Frameworks/R.framework/Resources/bin/R CMD INSTALL seq2pathway StartedAt: 2024-10-16 17:50:05 -0400 (Wed, 16 Oct 2024) EndedAt: 2024-10-16 17:50:31 -0400 (Wed, 16 Oct 2024) EllapsedTime: 25.6 seconds RetCode: 0 Status: OK