Package: seq2pathway Version: 1.36.0 Command: /Library/Frameworks/R.framework/Resources/bin/R CMD build --keep-empty-dirs --no-resave-data seq2pathway StartedAt: 2024-10-17 09:03:29 -0400 (Thu, 17 Oct 2024) EndedAt: 2024-10-17 09:05:51 -0400 (Thu, 17 Oct 2024) EllapsedTime: 141.9 seconds RetCode: 0 Status: OK PackageFile: seq2pathway_1.36.0.tar.gz PackageFileSize: 1.417 MiB