Package: seq.hotSPOT Version: 1.4.0 Command: /Library/Frameworks/R.framework/Resources/bin/R CMD INSTALL seq.hotSPOT StartedAt: 2024-10-16 15:11:30 -0400 (Wed, 16 Oct 2024) EndedAt: 2024-10-16 15:11:55 -0400 (Wed, 16 Oct 2024) EllapsedTime: 25.0 seconds RetCode: 0 Status: OK