Package: seq.hotSPOT Version: 1.4.0 Maintainer: Sydney Grant MaintainerEmail: sydney.grant at roswellpark.org git_url: https://git.bioconductor.org/packages/seq.hotSPOT git_branch: RELEASE_3_19 git_last_commit: 8b7e497 git_last_commit_date: 2024-04-30 11:48:42 -0400 (Tue, 30 Apr 2024)