Package: selectKSigs Version: 1.16.0 Command: E:\biocbuild\bbs-3.19-bioc\R\bin\R.exe CMD INSTALL selectKSigs StartedAt: 2024-10-16 16:34:00 -0400 (Wed, 16 Oct 2024) EndedAt: 2024-10-16 16:34:26 -0400 (Wed, 16 Oct 2024) EllapsedTime: 26.6 seconds RetCode: 0 Status: OK