Package: selectKSigs Version: 1.16.0 Command: chmod a+r selectKSigs -R && E:\biocbuild\bbs-3.19-bioc\R\bin\R.exe CMD build --keep-empty-dirs --no-resave-data selectKSigs StartedAt: 2024-10-16 21:53:21 -0400 (Wed, 16 Oct 2024) EndedAt: 2024-10-16 21:55:21 -0400 (Wed, 16 Oct 2024) EllapsedTime: 120.8 seconds RetCode: 0 Status: OK PackageFile: selectKSigs_1.16.0.tar.gz PackageFileSize: 329.2 KiB