Package: selectKSigs Version: 1.16.0 Command: /home/biocbuild/bbs-3.19-bioc/R/bin/R CMD INSTALL selectKSigs StartedAt: 2024-10-16 16:10:59 -0400 (Wed, 16 Oct 2024) EndedAt: 2024-10-16 16:11:11 -0400 (Wed, 16 Oct 2024) EllapsedTime: 12.5 seconds RetCode: 0 Status: OK