Package: segmenter Version: 1.10.0 Command: rm -rf segmenter.buildbin-libdir && mkdir segmenter.buildbin-libdir && /Users/biocbuild/BBS/utils/build-universal.sh segmenter_1.10.0.tar.gz /Library/Frameworks/R.framework/Resources/bin/R segmenter.buildbin-libdir StartedAt: 2024-06-11 13:11:33 -0400 (Tue, 11 Jun 2024) EndedAt: 2024-06-11 13:13:04 -0400 (Tue, 11 Jun 2024) EllapsedTime: 91.3 seconds RetCode: 0 Status: OK PackageFile: segmenter_1.10.0.tgz PackageFileSize: 4.4 MiB