Package: segmenter Version: 1.10.0 Command: rm -rf segmenter.buildbin-libdir && mkdir segmenter.buildbin-libdir && /Users/biocbuild/BBS/utils/build-universal.sh segmenter_1.10.0.tar.gz /Library/Frameworks/R.framework/Resources/bin/R segmenter.buildbin-libdir StartedAt: 2024-10-15 20:15:33 -0400 (Tue, 15 Oct 2024) EndedAt: 2024-10-15 20:16:37 -0400 (Tue, 15 Oct 2024) EllapsedTime: 64.2 seconds RetCode: 0 Status: OK PackageFile: segmenter_1.10.0.tgz PackageFileSize: 4.379 MiB