Package: segmentSeq Version: 2.38.0 Command: E:\biocbuild\bbs-3.19-bioc\R\bin\R.exe CMD INSTALL segmentSeq StartedAt: 2024-10-16 16:31:53 -0400 (Wed, 16 Oct 2024) EndedAt: 2024-10-16 16:32:56 -0400 (Wed, 16 Oct 2024) EllapsedTime: 63.5 seconds RetCode: 0 Status: OK