Package: segmentSeq Version: 2.38.0 Command: /Library/Frameworks/R.framework/Resources/bin/R CMD build --keep-empty-dirs --no-resave-data segmentSeq StartedAt: 2024-10-17 09:02:09 -0400 (Thu, 17 Oct 2024) EndedAt: 2024-10-17 09:13:07 -0400 (Thu, 17 Oct 2024) EllapsedTime: 658.0 seconds RetCode: 0 Status: OK PackageFile: segmentSeq_2.38.0.tar.gz PackageFileSize: 2.795 MiB