Package: sechm Version: 1.12.0 Command: rm -rf sechm.buildbin-libdir && mkdir sechm.buildbin-libdir && F:\biocbuild\bbs-3.19-bioc\R\bin\R.exe CMD INSTALL --build --library=sechm.buildbin-libdir sechm_1.12.0.tar.gz StartedAt: 2024-06-27 08:54:12 -0400 (Thu, 27 Jun 2024) EndedAt: 2024-06-27 08:54:47 -0400 (Thu, 27 Jun 2024) EllapsedTime: 34.6 seconds RetCode: 0 Status: OK PackageFile: sechm_1.12.0.zip PackageFileSize: 650.8 KiB