Package: scuttle Version: 1.14.0 Command: F:\biocbuild\bbs-3.19-bioc\R\bin\R.exe CMD INSTALL scuttle StartedAt: 2024-06-26 15:58:57 -0400 (Wed, 26 Jun 2024) EndedAt: 2024-06-26 16:00:49 -0400 (Wed, 26 Jun 2024) EllapsedTime: 112.1 seconds RetCode: 0 Status: OK