Package: scuttle Version: 1.14.0 Command: /home/biocbuild/bbs-3.19-bioc/R/bin/R CMD build --keep-empty-dirs --no-resave-data scuttle StartedAt: 2024-10-16 20:47:01 -0400 (Wed, 16 Oct 2024) EndedAt: 2024-10-16 20:49:51 -0400 (Wed, 16 Oct 2024) EllapsedTime: 170.4 seconds RetCode: 0 Status: OK PackageFile: scuttle_1.14.0.tar.gz PackageFileSize: 1005 KiB