Package: scuttle Version: 1.14.0 Command: /Library/Frameworks/R.framework/Resources/bin/R CMD check --install=check:scuttle.install-out.txt --library=/Library/Frameworks/R.framework/Resources/library --no-vignettes --timings scuttle_1.14.0.tar.gz StartedAt: 2024-06-09 22:59:02 -0400 (Sun, 09 Jun 2024) EndedAt: 2024-06-09 23:05:43 -0400 (Sun, 09 Jun 2024) EllapsedTime: 400.8 seconds RetCode: 0 Status: OK CheckDir: scuttle.Rcheck Warnings: 0