Package: scuttle Version: 1.14.0 Command: rm -rf scuttle.buildbin-libdir && mkdir scuttle.buildbin-libdir && /Users/biocbuild/BBS/utils/build-universal.sh scuttle_1.14.0.tar.gz /Library/Frameworks/R.framework/Resources/bin/R scuttle.buildbin-libdir StartedAt: 2024-06-10 00:39:06 -0400 (Mon, 10 Jun 2024) EndedAt: 2024-06-10 00:40:44 -0400 (Mon, 10 Jun 2024) EllapsedTime: 97.6 seconds RetCode: 0 Status: OK PackageFile: scuttle_1.14.0.tgz PackageFileSize: 1.273 MiB