Package: scuttle Version: 1.14.0 Command: /home/biocbuild/R/R-beta-2024-04-15_r86425/bin/R CMD build --keep-empty-dirs --no-resave-data scuttle StartedAt: 2024-05-09 03:30:39 -0000 (Thu, 09 May 2024) EndedAt: 2024-05-09 03:35:42 -0000 (Thu, 09 May 2024) EllapsedTime: 302.4 seconds RetCode: 0 Status: OK PackageFile: scuttle_1.14.0.tar.gz PackageFileSize: 1.171 MiB