Package: scry Version: 1.16.0 Command: /Library/Frameworks/R.framework/Resources/bin/R CMD build --keep-empty-dirs --no-resave-data scry StartedAt: 2024-10-16 23:07:56 -0400 (Wed, 16 Oct 2024) EndedAt: 2024-10-16 23:16:25 -0400 (Wed, 16 Oct 2024) EllapsedTime: 509.0 seconds RetCode: 0 Status: OK PackageFile: scry_1.16.0.tar.gz PackageFileSize: 4.522 MiB