Package: scry Version: 1.16.0 Command: /Library/Frameworks/R.framework/Resources/bin/R CMD check --install=check:scry.install-out.txt --library=/Library/Frameworks/R.framework/Resources/library --no-vignettes --timings scry_1.16.0.tar.gz StartedAt: 2024-06-11 05:00:01 -0400 (Tue, 11 Jun 2024) EndedAt: 2024-06-11 05:05:19 -0400 (Tue, 11 Jun 2024) EllapsedTime: 318.7 seconds RetCode: 0 Status: OK CheckDir: scry.Rcheck Warnings: 0