Package: scry Version: 1.16.0 Command: /Library/Frameworks/R.framework/Resources/bin/R CMD INSTALL scry StartedAt: 2024-10-16 18:34:15 -0400 (Wed, 16 Oct 2024) EndedAt: 2024-10-16 18:34:44 -0400 (Wed, 16 Oct 2024) EllapsedTime: 28.9 seconds RetCode: 0 Status: OK